BEGIN:VCALENDAR
VERSION:2.0
PRODID:-//Reno Blues Society - ECPv6.15.20//NONSGML v1.0//EN
CALSCALE:GREGORIAN
METHOD:PUBLISH
X-ORIGINAL-URL:https://renoblues.org
X-WR-CALDESC:Events for Reno Blues Society
REFRESH-INTERVAL;VALUE=DURATION:PT1H
X-Robots-Tag:noindex
X-PUBLISHED-TTL:PT1H
BEGIN:VTIMEZONE
TZID:UTC
BEGIN:STANDARD
TZOFFSETFROM:+0000
TZOFFSETTO:+0000
TZNAME:UTC
DTSTART:20240101T000000
END:STANDARD
END:VTIMEZONE
BEGIN:VEVENT
DTSTART;TZID=UTC:20250613T200000
DTEND;TZID=UTC:20250613T230000
DTSTAMP:20260419T123931
CREATED:20250604T000059Z
LAST-MODIFIED:20250604T000059Z
UID:4788-1749844800-1749855600@renoblues.org
SUMMARY:The Blues Monsters
DESCRIPTION:
URL:https://renoblues.org/event/the-blues-monsters-5/
LOCATION:Midtown Spirits Wine & Bites\, 1527 South Virginia Street\, Reno\, 89502\, United States
CATEGORIES:Live Blues Music,Live Music Reno,Live Music Reno and Vicinity
END:VEVENT
BEGIN:VEVENT
DTSTART;TZID=UTC:20250614T200000
DTEND;TZID=UTC:20250614T230000
DTSTAMP:20260419T123931
CREATED:20250604T000229Z
LAST-MODIFIED:20250604T000229Z
UID:4790-1749931200-1749942000@renoblues.org
SUMMARY:The Blues Monsters
DESCRIPTION:
URL:https://renoblues.org/event/the-blues-monsters-6/
LOCATION:Midtown Spirits Wine & Bites\, 1527 South Virginia Street\, Reno\, 89502\, United States
CATEGORIES:Live Blues Music,Live Music Reno,Live Music Reno and Vicinity
END:VEVENT
BEGIN:VEVENT
DTSTART;TZID=UTC:20250624T180000
DTEND;TZID=UTC:20250624T203000
DTSTAMP:20260419T123931
CREATED:20250604T001347Z
LAST-MODIFIED:20250604T001512Z
UID:4794-1750788000-1750797000@renoblues.org
SUMMARY:The Blues Monsters
DESCRIPTION:
URL:https://renoblues.org/event/the-blues-monsters-8/
LOCATION:Palisades Village\, 1960 Squaw Valley Road\, Olympic Valley\, CA\, 96146\, United States
END:VEVENT
BEGIN:VEVENT
DTSTART;TZID=UTC:20250628T170000
DTEND;TZID=UTC:20250628T190000
DTSTAMP:20260419T123931
CREATED:20250604T002131Z
LAST-MODIFIED:20250604T002131Z
UID:4796-1751130000-1751137200@renoblues.org
SUMMARY:The Blues Monsters
DESCRIPTION:
URL:https://renoblues.org/event/the-blues-monsters-9/
LOCATION:Somersett on the Green\, 7650 Town Square Way\, Reno\, NV\, 89523\, United States
END:VEVENT
END:VCALENDAR