BEGIN:VCALENDAR
VERSION:2.0
PRODID:-//Reno Blues Society - ECPv6.15.20//NONSGML v1.0//EN
CALSCALE:GREGORIAN
METHOD:PUBLISH
X-WR-CALNAME:Reno Blues Society
X-ORIGINAL-URL:https://renoblues.org
X-WR-CALDESC:Events for Reno Blues Society
REFRESH-INTERVAL;VALUE=DURATION:PT1H
X-Robots-Tag:noindex
X-PUBLISHED-TTL:PT1H
BEGIN:VTIMEZONE
TZID:UTC
BEGIN:STANDARD
TZOFFSETFROM:+0000
TZOFFSETTO:+0000
TZNAME:UTC
DTSTART:20240101T000000
END:STANDARD
END:VTIMEZONE
BEGIN:VEVENT
DTSTART;TZID=UTC:20251012T150000
DTEND;TZID=UTC:20251012T180000
DTSTAMP:20260419T222340
CREATED:20251011T183027Z
LAST-MODIFIED:20251011T185603Z
UID:4911-1760281200-1760292000@renoblues.org
SUMMARY:Lead Dog Brewing Blues Jam - 2nd & 4th Sundays
DESCRIPTION:That’s right!  It’s next door to our other blues jam venue\, Black Rabbit.  Both businesses have designated parking areas\, so PLEASE adhere to them.  For instance\, if you’re going to this jam on a Sunday\, you do not park at Black Rabbit\, and vice versa if you are going to a 1st Monday jam at Black Rabbit\, you do not park at Lead Dog.
URL:https://renoblues.org/event/lead-dog-brewery-blues-jam-2nd-4th-sundays/
LOCATION:Lead Dog Brewing\, 415 E 4th Street\, Reno\, NV\, United States
CATEGORIES:Live Blues Music,Live Music Reno,Live Music Reno and Vicinity,Reno Blues Society
END:VEVENT
END:VCALENDAR