BEGIN:VCALENDAR
VERSION:2.0
PRODID:-//Reno Blues Society - ECPv6.15.20//NONSGML v1.0//EN
CALSCALE:GREGORIAN
METHOD:PUBLISH
X-WR-CALNAME:Reno Blues Society
X-ORIGINAL-URL:https://renoblues.org
X-WR-CALDESC:Events for Reno Blues Society
REFRESH-INTERVAL;VALUE=DURATION:PT1H
X-Robots-Tag:noindex
X-PUBLISHED-TTL:PT1H
BEGIN:VTIMEZONE
TZID:UTC
BEGIN:STANDARD
TZOFFSETFROM:+0000
TZOFFSETTO:+0000
TZNAME:UTC
DTSTART:20250101T000000
END:STANDARD
END:VTIMEZONE
BEGIN:VEVENT
DTSTART;TZID=UTC:20260221T173000
DTEND;TZID=UTC:20260221T213000
DTSTAMP:20260419T170849
CREATED:20251115T163950Z
LAST-MODIFIED:20251115T163950Z
UID:4977-1771695000-1771709400@renoblues.org
SUMMARY:🎉RBS Mardi Gras w/Rick Estrin & The Nightcats
DESCRIPTION:Ticket sales and all the detail info coming soon!!
URL:https://renoblues.org/event/%f0%9f%8e%89rbs-mardi-gras-w-rick-estrin-the-nightcats-2/
LOCATION:National Automobile Museum\, 1 Museum Drive\, Reno\, NV\, 89501\, United States
END:VEVENT
END:VCALENDAR