BEGIN:VCALENDAR
VERSION:2.0
PRODID:-//Reno Blues Society - ECPv6.15.20//NONSGML v1.0//EN
CALSCALE:GREGORIAN
METHOD:PUBLISH
X-WR-CALNAME:Reno Blues Society
X-ORIGINAL-URL:https://renoblues.org
X-WR-CALDESC:Events for Reno Blues Society
REFRESH-INTERVAL;VALUE=DURATION:PT1H
X-Robots-Tag:noindex
X-PUBLISHED-TTL:PT1H
BEGIN:VTIMEZONE
TZID:UTC
BEGIN:STANDARD
TZOFFSETFROM:+0000
TZOFFSETTO:+0000
TZNAME:UTC
DTSTART:20240101T000000
END:STANDARD
END:VTIMEZONE
BEGIN:VEVENT
DTSTART;TZID=UTC:20251108T173000
DTEND;TZID=UTC:20251108T213000
DTSTAMP:20260419T194737
CREATED:20251011T184923Z
LAST-MODIFIED:20251011T184923Z
UID:4914-1762623000-1762637400@renoblues.org
SUMMARY:RBS - 2nd Annual Cruisin' The Blues
DESCRIPTION:Don’t miss our 2nd Cruisin’ The Blues at the National Automobile Museum!  We are excited to be welcoming Tommy Castro and the Painkillers as our headliner\, with Jason King Band opening.  The amazing museum venue becomes the perfect space to dance or listen your night away.
URL:https://renoblues.org/event/rbs-2nd-annual-cruisin-the-blues/
LOCATION:National Automobile Museum\, 1 Museum Drive\, Reno\, NV\, 89501\, United States
END:VEVENT
BEGIN:VEVENT
DTSTART;TZID=UTC:20251108T183000
DTEND;TZID=UTC:20251108T213000
DTSTAMP:20260419T194737
CREATED:20250903T211926Z
LAST-MODIFIED:20250903T211926Z
UID:4889-1762626600-1762637400@renoblues.org
SUMMARY:Cruisin' The Blues
DESCRIPTION:
URL:https://renoblues.org/event/cruisin-the-blues/
LOCATION:NV
END:VEVENT
BEGIN:VEVENT
DTSTART;TZID=UTC:20251119T193000
DTEND;TZID=UTC:20251119T220000
DTSTAMP:20260419T194737
CREATED:20250903T205257Z
LAST-MODIFIED:20250903T211446Z
UID:4879-1763580600-1763589600@renoblues.org
SUMMARY:Coco Montoya
DESCRIPTION:
URL:https://renoblues.org/event/coco-montoya-2/
LOCATION:Nashville Social Club\, 1105 South Carson Street\, Carson City\, NV\, 89701\, United States
END:VEVENT
BEGIN:VEVENT
DTSTART;TZID=UTC:20251122T193000
DTEND;TZID=UTC:20251122T220000
DTSTAMP:20260419T194737
CREATED:20250903T210420Z
LAST-MODIFIED:20250903T211407Z
UID:4883-1763839800-1763848800@renoblues.org
SUMMARY:Tinsley Ellis
DESCRIPTION:
URL:https://renoblues.org/event/tinsley-ellis/
LOCATION:Nashville Social Club\, 1105 South Carson Street\, Carson City\, NV\, 89701\, United States
END:VEVENT
BEGIN:VEVENT
DTSTART;TZID=UTC:20251129T193000
DTEND;TZID=UTC:20251129T220000
DTSTAMP:20260419T194737
CREATED:20250903T211306Z
LAST-MODIFIED:20250903T211306Z
UID:4887-1764444600-1764453600@renoblues.org
SUMMARY:Roy Rogers and the Delta Rhythm Kings
DESCRIPTION:
URL:https://renoblues.org/event/roy-rogers-and-the-delta-rhythm-kings/
LOCATION:Nashville Social Club\, 1105 South Carson Street\, Carson City\, NV\, 89701\, United States
END:VEVENT
END:VCALENDAR