BEGIN:VCALENDAR
VERSION:2.0
PRODID:-//Reno Blues Society - ECPv6.15.20//NONSGML v1.0//EN
CALSCALE:GREGORIAN
METHOD:PUBLISH
X-ORIGINAL-URL:https://renoblues.org
X-WR-CALDESC:Events for Reno Blues Society
REFRESH-INTERVAL;VALUE=DURATION:PT1H
X-Robots-Tag:noindex
X-PUBLISHED-TTL:PT1H
BEGIN:VTIMEZONE
TZID:UTC
BEGIN:STANDARD
TZOFFSETFROM:+0000
TZOFFSETTO:+0000
TZNAME:UTC
DTSTART:20230101T000000
END:STANDARD
END:VTIMEZONE
BEGIN:VEVENT
DTSTART;TZID=UTC:20241107T173000
DTEND;TZID=UTC:20241107T210000
DTSTAMP:20260419T235919
CREATED:20240909T173056Z
LAST-MODIFIED:20241031T200514Z
UID:4388-1731000600-1731013200@renoblues.org
SUMMARY:Dave Mason - Book Signing\, dinner & maybe a little blues
DESCRIPTION:
URL:https://renoblues.org/event/dave-mason-book-signing-dinner-maybe-a-little-blues/
LOCATION:Nashville Social Club\, 1105 South Carson Street\, Carson City\, NV\, 89701\, United States
END:VEVENT
END:VCALENDAR