BEGIN:VCALENDAR
VERSION:2.0
PRODID:-//Reno Blues Society - ECPv6.15.20//NONSGML v1.0//EN
CALSCALE:GREGORIAN
METHOD:PUBLISH
X-ORIGINAL-URL:https://renoblues.org
X-WR-CALDESC:Events for Reno Blues Society
REFRESH-INTERVAL;VALUE=DURATION:PT1H
X-Robots-Tag:noindex
X-PUBLISHED-TTL:PT1H
BEGIN:VTIMEZONE
TZID:UTC
BEGIN:STANDARD
TZOFFSETFROM:+0000
TZOFFSETTO:+0000
TZNAME:UTC
DTSTART:20230101T000000
END:STANDARD
END:VTIMEZONE
BEGIN:VEVENT
DTSTART;TZID=UTC:20241228T193000
DTEND;TZID=UTC:20241228T220000
DTSTAMP:20260419T211759
CREATED:20240909T201538Z
LAST-MODIFIED:20240922T203205Z
UID:4402-1735414200-1735423200@renoblues.org
SUMMARY:Tommy Castro & the Painkillers
DESCRIPTION: 
URL:https://renoblues.org/event/tommy-castro/
LOCATION:Nashville Social Club\, 1105 South Carson Street\, Carson City\, NV\, 89701\, United States
END:VEVENT
END:VCALENDAR