BEGIN:VCALENDAR
VERSION:2.0
PRODID:-//Reno Blues Society - ECPv6.15.20//NONSGML v1.0//EN
CALSCALE:GREGORIAN
METHOD:PUBLISH
X-ORIGINAL-URL:https://renoblues.org
X-WR-CALDESC:Events for Reno Blues Society
REFRESH-INTERVAL;VALUE=DURATION:PT1H
X-Robots-Tag:noindex
X-PUBLISHED-TTL:PT1H
BEGIN:VTIMEZONE
TZID:UTC
BEGIN:STANDARD
TZOFFSETFROM:+0000
TZOFFSETTO:+0000
TZNAME:UTC
DTSTART:20240101T000000
END:STANDARD
END:VTIMEZONE
BEGIN:VEVENT
DTSTART;TZID=UTC:20250805T183000
DTEND;TZID=UTC:20250805T200000
DTSTAMP:20260419T221710
CREATED:20240425T230602Z
LAST-MODIFIED:20250506T214324Z
UID:3939-1754418600-1754424000@renoblues.org
SUMMARY:Dennis Jones
DESCRIPTION:Dennis Jones \n 
URL:https://renoblues.org/event/dennis-jones-2/
LOCATION:Palisades Village\, 1960 Squaw Valley Road\, Olympic Valley\, CA\, 96146\, United States
END:VEVENT
BEGIN:VEVENT
DTSTART;TZID=UTC:20250808T210000
DTEND;TZID=UTC:20250809T230000
DTSTAMP:20260419T221710
CREATED:20250711T192600Z
LAST-MODIFIED:20250711T192600Z
UID:4835-1754686800-1754780400@renoblues.org
SUMMARY:The Blues Monsters
DESCRIPTION:
URL:https://renoblues.org/event/the-blues-monsters-7/
LOCATION:Great Basin Brewery\, 846 Victorian Avenue\, Reno\, NV\, 89509\, United States
END:VEVENT
BEGIN:VEVENT
DTSTART;TZID=UTC:20250812T180000
DTEND;TZID=UTC:20250812T203000
DTSTAMP:20260419T221710
CREATED:20250506T214841Z
LAST-MODIFIED:20250506T214951Z
UID:4734-1755021600-1755030600@renoblues.org
SUMMARY:Studebaker John & The Hawks
DESCRIPTION:
URL:https://renoblues.org/event/studebaker-john/
LOCATION:Palisades Village\, 1960 Squaw Valley Road\, Olympic Valley\, CA\, 96146\, United States
END:VEVENT
BEGIN:VEVENT
DTSTART;TZID=UTC:20250815T193000
DTEND;TZID=UTC:20250815T220000
DTSTAMP:20260419T221710
CREATED:20250714T210310Z
LAST-MODIFIED:20250714T210310Z
UID:4838-1755286200-1755295200@renoblues.org
SUMMARY:The Delta Wires
DESCRIPTION:
URL:https://renoblues.org/event/the-delta-wires/
LOCATION:Nashville Social Club\, 1105 South Carson Street\, Carson City\, NV\, 89701\, United States
END:VEVENT
BEGIN:VEVENT
DTSTART;TZID=UTC:20250819T180000
DTEND;TZID=UTC:20250819T203000
DTSTAMP:20260419T221710
CREATED:20250506T215446Z
LAST-MODIFIED:20250506T215446Z
UID:4738-1755626400-1755635400@renoblues.org
SUMMARY:Rocky Athas
DESCRIPTION:
URL:https://renoblues.org/event/rocky-athas/
LOCATION:Palisades Village\, 1960 Squaw Valley Road\, Olympic Valley\, CA\, 96146\, United States
END:VEVENT
BEGIN:VEVENT
DTSTART;TZID=UTC:20250826T183000
DTEND;TZID=UTC:20250826T200000
DTSTAMP:20260419T221710
CREATED:20240425T225405Z
LAST-MODIFIED:20250506T215541Z
UID:3933-1756233000-1756238400@renoblues.org
SUMMARY:J.C. Smith Band
DESCRIPTION:JC Smith
URL:https://renoblues.org/event/j-c-smith-band/
LOCATION:Palisades Village\, 1960 Squaw Valley Road\, Olympic Valley\, CA\, 96146\, United States
END:VEVENT
BEGIN:VEVENT
DTSTART;TZID=UTC:20250828T190000
DTEND;TZID=UTC:20250828T210000
DTSTAMP:20260419T221710
CREATED:20250506T211111Z
LAST-MODIFIED:20250801T174324Z
UID:4726-1756407600-1756414800@renoblues.org
SUMMARY:RBS - 4th Thursday Roadhouse Blues Jam
DESCRIPTION:
URL:https://renoblues.org/event/rbs-4th-thursday-roadhouse-blues-jam-2/
LOCATION:Black Rabbit\, 401 E 4th St\, Reno\, NV\, 89512\, United States
END:VEVENT
END:VCALENDAR