BEGIN:VCALENDAR
VERSION:2.0
PRODID:-//Reno Blues Society - ECPv6.15.20//NONSGML v1.0//EN
CALSCALE:GREGORIAN
METHOD:PUBLISH
X-ORIGINAL-URL:https://renoblues.org
X-WR-CALDESC:Events for Reno Blues Society
REFRESH-INTERVAL;VALUE=DURATION:PT1H
X-Robots-Tag:noindex
X-PUBLISHED-TTL:PT1H
BEGIN:VTIMEZONE
TZID:UTC
BEGIN:STANDARD
TZOFFSETFROM:+0000
TZOFFSETTO:+0000
TZNAME:UTC
DTSTART:20240101T000000
END:STANDARD
END:VTIMEZONE
BEGIN:VEVENT
DTSTART;TZID=UTC:20250802T190000
DTEND;TZID=UTC:20250802T220000
DTSTAMP:20260420T025548
CREATED:20250711T174105Z
LAST-MODIFIED:20250711T174105Z
UID:4831-1754161200-1754172000@renoblues.org
SUMMARY:Wreckless Strangers
DESCRIPTION:
URL:https://renoblues.org/event/wreckless-strangers/
LOCATION:Brewery Arts Center\, 449 W King Street\, Carson City\, NV\, United States
END:VEVENT
END:VCALENDAR