BEGIN:VCALENDAR
VERSION:2.0
PRODID:-//Reno Blues Society - ECPv6.15.20//NONSGML v1.0//EN
CALSCALE:GREGORIAN
METHOD:PUBLISH
X-WR-CALNAME:Reno Blues Society
X-ORIGINAL-URL:https://renoblues.org
X-WR-CALDESC:Events for Reno Blues Society
REFRESH-INTERVAL;VALUE=DURATION:PT1H
X-Robots-Tag:noindex
X-PUBLISHED-TTL:PT1H
BEGIN:VTIMEZONE
TZID:UTC
BEGIN:STANDARD
TZOFFSETFROM:+0000
TZOFFSETTO:+0000
TZNAME:UTC
DTSTART:20240101T000000
END:STANDARD
END:VTIMEZONE
BEGIN:VEVENT
DTSTART;VALUE=DATE:20250904
DTEND;VALUE=DATE:20250908
DTSTAMP:20260420T065457
CREATED:20250514T195416Z
LAST-MODIFIED:20250514T195416Z
UID:4753-1756944000-1757289599@renoblues.org
SUMMARY:Big Blues Bender - Las Vegas
DESCRIPTION:
URL:https://renoblues.org/event/big-blues-bender-las-vegas/
LOCATION:Westgate Las Vegas\, United States
CATEGORIES:Live Blues Music
END:VEVENT
END:VCALENDAR